BEGIN:VCALENDAR
VERSION:2.0
PRODID:-//Catholic Medical Association - ECPv6.15.17.1//NONSGML v1.0//EN
CALSCALE:GREGORIAN
METHOD:PUBLISH
X-WR-CALNAME:Catholic Medical Association
X-ORIGINAL-URL:https://catholicmedicalassociation.org.uk
X-WR-CALDESC:Events for Catholic Medical Association
REFRESH-INTERVAL;VALUE=DURATION:PT1H
X-Robots-Tag:noindex
X-PUBLISHED-TTL:PT1H
BEGIN:VTIMEZONE
TZID:Europe/London
BEGIN:DAYLIGHT
TZOFFSETFROM:+0000
TZOFFSETTO:+0100
TZNAME:BST
DTSTART:20210328T010000
END:DAYLIGHT
BEGIN:STANDARD
TZOFFSETFROM:+0100
TZOFFSETTO:+0000
TZNAME:GMT
DTSTART:20211031T010000
END:STANDARD
BEGIN:DAYLIGHT
TZOFFSETFROM:+0000
TZOFFSETTO:+0100
TZNAME:BST
DTSTART:20220327T010000
END:DAYLIGHT
BEGIN:STANDARD
TZOFFSETFROM:+0100
TZOFFSETTO:+0000
TZNAME:GMT
DTSTART:20221030T010000
END:STANDARD
BEGIN:DAYLIGHT
TZOFFSETFROM:+0000
TZOFFSETTO:+0100
TZNAME:BST
DTSTART:20230326T010000
END:DAYLIGHT
BEGIN:STANDARD
TZOFFSETFROM:+0100
TZOFFSETTO:+0000
TZNAME:GMT
DTSTART:20231029T010000
END:STANDARD
END:VTIMEZONE
BEGIN:VEVENT
DTSTART;TZID=Europe/London:20220326T150000
DTEND;TZID=Europe/London:20220326T170000
DTSTAMP:20260421T094121
CREATED:20220224T183126Z
LAST-MODIFIED:20220302T155952Z
UID:1125-1648306800-1648314000@catholicmedicalassociation.org.uk
SUMMARY:"Your Right to Treatment .... the use and misuse of the RESPECT form "
DESCRIPTION:A Joint Meeting of the Catholic Medical Association and the Medical Ethics Alliance.\nSaturday 26th March\, 3pm – 5pm \nSpeaker: Dr Adrian Farrell \nBirmingham University Catholic Chaplaincy\, 29 Harrison Rd.\, Birmingham\, B15 3QS \nAll Welcome.  For more details contact secretary@medethicsalliance.org.uk
URL:https://catholicmedicalassociation.org.uk/event/your-right-to-treatment-the-use-and-misuse-of-the-r-e-s-p-e-c-t-form/
LOCATION:Birmingham University Catholic Chaplaincy\, 29 Harrison Rd.\, Birmingham\, B15 3QS\, United Kingdom
ATTACH;FMTTYPE=image/jpeg:https://catholicmedicalassociation.org.uk/wp-content/uploads/2022/02/Your-Right-to-Treatment-Event-Image-scaled.jpg
END:VEVENT
END:VCALENDAR