BEGIN:VCALENDAR
VERSION:2.0
PRODID:-//Catholic Medical Association - ECPv6.15.17.1//NONSGML v1.0//EN
CALSCALE:GREGORIAN
METHOD:PUBLISH
X-WR-CALNAME:Catholic Medical Association
X-ORIGINAL-URL:https://catholicmedicalassociation.org.uk
X-WR-CALDESC:Events for Catholic Medical Association
REFRESH-INTERVAL;VALUE=DURATION:PT1H
X-Robots-Tag:noindex
X-PUBLISHED-TTL:PT1H
BEGIN:VTIMEZONE
TZID:Europe/London
BEGIN:DAYLIGHT
TZOFFSETFROM:+0000
TZOFFSETTO:+0100
TZNAME:BST
DTSTART:20210328T010000
END:DAYLIGHT
BEGIN:STANDARD
TZOFFSETFROM:+0100
TZOFFSETTO:+0000
TZNAME:GMT
DTSTART:20211031T010000
END:STANDARD
BEGIN:DAYLIGHT
TZOFFSETFROM:+0000
TZOFFSETTO:+0100
TZNAME:BST
DTSTART:20220327T010000
END:DAYLIGHT
BEGIN:STANDARD
TZOFFSETFROM:+0100
TZOFFSETTO:+0000
TZNAME:GMT
DTSTART:20221030T010000
END:STANDARD
BEGIN:DAYLIGHT
TZOFFSETFROM:+0000
TZOFFSETTO:+0100
TZNAME:BST
DTSTART:20230326T010000
END:DAYLIGHT
BEGIN:STANDARD
TZOFFSETFROM:+0100
TZOFFSETTO:+0000
TZNAME:GMT
DTSTART:20231029T010000
END:STANDARD
END:VTIMEZONE
BEGIN:VEVENT
DTSTART;TZID=Europe/London:20220424T080000
DTEND;TZID=Europe/London:20220424T170000
DTSTAMP:20260422T095840
CREATED:20220224T184112Z
LAST-MODIFIED:20220302T160729Z
UID:1134-1650787200-1650819600@catholicmedicalassociation.org.uk
SUMMARY:The Annual General Meeting on the CMA (Members only)
DESCRIPTION:Sunday 24th April (CMA Members only). \nMore details will be available here shortly.
URL:https://catholicmedicalassociation.org.uk/event/the-annual-general-meeting-on-the-cma-members-only/
ATTACH;FMTTYPE=image/jpeg:https://catholicmedicalassociation.org.uk/wp-content/uploads/2022/02/AGM-2022-scaled.jpg
END:VEVENT
END:VCALENDAR