BEGIN:VCALENDAR
VERSION:2.0
PRODID:-//Catholic Medical Association - ECPv6.15.17.1//NONSGML v1.0//EN
CALSCALE:GREGORIAN
METHOD:PUBLISH
X-WR-CALNAME:Catholic Medical Association
X-ORIGINAL-URL:https://catholicmedicalassociation.org.uk
X-WR-CALDESC:Events for Catholic Medical Association
REFRESH-INTERVAL;VALUE=DURATION:PT1H
X-Robots-Tag:noindex
X-PUBLISHED-TTL:PT1H
BEGIN:VTIMEZONE
TZID:Europe/London
BEGIN:DAYLIGHT
TZOFFSETFROM:+0000
TZOFFSETTO:+0100
TZNAME:BST
DTSTART:20200329T010000
END:DAYLIGHT
BEGIN:STANDARD
TZOFFSETFROM:+0100
TZOFFSETTO:+0000
TZNAME:GMT
DTSTART:20201025T010000
END:STANDARD
BEGIN:DAYLIGHT
TZOFFSETFROM:+0000
TZOFFSETTO:+0100
TZNAME:BST
DTSTART:20210328T010000
END:DAYLIGHT
BEGIN:STANDARD
TZOFFSETFROM:+0100
TZOFFSETTO:+0000
TZNAME:GMT
DTSTART:20211031T010000
END:STANDARD
BEGIN:DAYLIGHT
TZOFFSETFROM:+0000
TZOFFSETTO:+0100
TZNAME:BST
DTSTART:20220327T010000
END:DAYLIGHT
BEGIN:STANDARD
TZOFFSETFROM:+0100
TZOFFSETTO:+0000
TZNAME:GMT
DTSTART:20221030T010000
END:STANDARD
END:VTIMEZONE
BEGIN:VEVENT
DTSTART;TZID=Europe/London:20210218T193000
DTEND;TZID=Europe/London:20210218T210000
DTSTAMP:20260421T094121
CREATED:20210215T160251Z
LAST-MODIFIED:20210216T160437Z
UID:950-1613676600-1613682000@catholicmedicalassociation.org.uk
SUMMARY:Covid vaccines - what are the ethics? and do we have choices?
DESCRIPTION:CMA Kent Branch\nCovid vaccines – what are the ethics? and do we have choices?\nVia Zoom\nDate: Thurs 18 Feb\nTime: 7:30pm – 9:00pm\nWho: all CMA members\, and other concerned parties\nTo join: email kentcma@gmail.com by Wed 17th Feb \nWe have had many enquiries from members and other good Catholics about the Covid vaccines now on offer. Many have been concerned about the use of foetal cell lines within the vaccine development and manufacture processes. Some have worried that they should not receive the vaccines due to the foetal cell line issue. Others have asked if one of the vaccines is preferable to the other. Still  more are worried about the possibility that we may be compelled to be vaccinated:- either to work in certain industries or perhaps to  travel to other countries. This talk by Dr Adrian Treloar\, building upon recent articles in the Catholic Medical Quarterly is open to all CMA members and also others who are interested or concerned. \nTo join: email kentcma@gmail.com by Wed 17th Feb
URL:https://catholicmedicalassociation.org.uk/event/covid-vaccines-what-are-the-ethics-and-do-we-have-choices/
LOCATION:Virtual Event: Zoom
ATTACH;FMTTYPE=image/png:https://catholicmedicalassociation.org.uk/wp-content/uploads/2021/02/Kent-Branch.png
END:VEVENT
END:VCALENDAR