BEGIN:VCALENDAR
VERSION:2.0
PRODID:-//Catholic Medical Association - ECPv6.15.17.1//NONSGML v1.0//EN
CALSCALE:GREGORIAN
METHOD:PUBLISH
X-WR-CALNAME:Catholic Medical Association
X-ORIGINAL-URL:https://catholicmedicalassociation.org.uk
X-WR-CALDESC:Events for Catholic Medical Association
REFRESH-INTERVAL;VALUE=DURATION:PT1H
X-Robots-Tag:noindex
X-PUBLISHED-TTL:PT1H
BEGIN:VTIMEZONE
TZID:Europe/London
BEGIN:DAYLIGHT
TZOFFSETFROM:+0000
TZOFFSETTO:+0100
TZNAME:BST
DTSTART:20190331T010000
END:DAYLIGHT
BEGIN:STANDARD
TZOFFSETFROM:+0100
TZOFFSETTO:+0000
TZNAME:GMT
DTSTART:20191027T010000
END:STANDARD
BEGIN:DAYLIGHT
TZOFFSETFROM:+0000
TZOFFSETTO:+0100
TZNAME:BST
DTSTART:20200329T010000
END:DAYLIGHT
BEGIN:STANDARD
TZOFFSETFROM:+0100
TZOFFSETTO:+0000
TZNAME:GMT
DTSTART:20201025T010000
END:STANDARD
BEGIN:DAYLIGHT
TZOFFSETFROM:+0000
TZOFFSETTO:+0100
TZNAME:BST
DTSTART:20210328T010000
END:DAYLIGHT
BEGIN:STANDARD
TZOFFSETFROM:+0100
TZOFFSETTO:+0000
TZNAME:GMT
DTSTART:20211031T010000
END:STANDARD
END:VTIMEZONE
BEGIN:VEVENT
DTSTART;VALUE=DATE:20201003
DTEND;VALUE=DATE:20201004
DTSTAMP:20260422T101234
CREATED:20200728T222204Z
LAST-MODIFIED:20200917T164732Z
UID:723-1601683200-1601769599@catholicmedicalassociation.org.uk
SUMMARY:Caring for the Mind\, Body and Soul
DESCRIPTION:The Fifth Annual CMA Youth Conference. A day conference exploring mental health and our own (mental and spiritual) wellbeing as healthcare professionals. \n\nSpeakers: \n1pm: Psychiatry and the relevance of faith in mental health\, by a CMA member and doctor with experience in working in psychiatry\n2pm: Our call to be praying healthcare professionals\, by Em Leaky\, physiotherapist and lay hospital chaplain\n3pm: Behind closed doors: mental health in prison\, by Fr Stephen Coker\n4pm: Acedia: despondency\, exhaustion and the end of enthusiasm\, by Fr Tom Lynch \nWhen: Saturday 3rd October\nWho: For Catholic juniors and students of the healthcare professions (18-40yrs)\nHow: Due to COVID-10 restrictions\, this conference will now take place virtually via Zoom.\nCost: Free\nRegister: Please register below to be sent the Zoom links. \n\n 
URL:https://catholicmedicalassociation.org.uk/event/caring-for-the-mind-body-and-soul/
LOCATION:Virtual Event: Zoom
ATTACH;FMTTYPE=image/jpeg:https://catholicmedicalassociation.org.uk/wp-content/uploads/2020/07/caring-for-mind-body-soul.jpg
END:VEVENT
END:VCALENDAR